BEGIN:VCALENDAR
VERSION:2.0
PRODID:-//Ignite South Bend - ECPv6.15.20//NONSGML v1.0//EN
CALSCALE:GREGORIAN
METHOD:PUBLISH
X-WR-CALNAME:Ignite South Bend
X-ORIGINAL-URL:https://ignitesouthbend.org
X-WR-CALDESC:Events for Ignite South Bend
REFRESH-INTERVAL;VALUE=DURATION:PT1H
X-Robots-Tag:noindex
X-PUBLISHED-TTL:PT1H
BEGIN:VTIMEZONE
TZID:America/Indiana/Indianapolis
BEGIN:DAYLIGHT
TZOFFSETFROM:-0500
TZOFFSETTO:-0400
TZNAME:EDT
DTSTART:20230312T070000
END:DAYLIGHT
BEGIN:STANDARD
TZOFFSETFROM:-0400
TZOFFSETTO:-0500
TZNAME:EST
DTSTART:20231105T060000
END:STANDARD
BEGIN:DAYLIGHT
TZOFFSETFROM:-0500
TZOFFSETTO:-0400
TZNAME:EDT
DTSTART:20240310T070000
END:DAYLIGHT
BEGIN:STANDARD
TZOFFSETFROM:-0400
TZOFFSETTO:-0500
TZNAME:EST
DTSTART:20241103T060000
END:STANDARD
BEGIN:DAYLIGHT
TZOFFSETFROM:-0500
TZOFFSETTO:-0400
TZNAME:EDT
DTSTART:20250309T070000
END:DAYLIGHT
BEGIN:STANDARD
TZOFFSETFROM:-0400
TZOFFSETTO:-0500
TZNAME:EST
DTSTART:20251102T060000
END:STANDARD
BEGIN:DAYLIGHT
TZOFFSETFROM:-0500
TZOFFSETTO:-0400
TZNAME:EDT
DTSTART:20260308T070000
END:DAYLIGHT
BEGIN:STANDARD
TZOFFSETFROM:-0400
TZOFFSETTO:-0500
TZNAME:EST
DTSTART:20261101T060000
END:STANDARD
END:VTIMEZONE
BEGIN:VEVENT
DTSTART;TZID=America/Indiana/Indianapolis:20251122T183000
DTEND;TZID=America/Indiana/Indianapolis:20251122T200000
DTSTAMP:20260422T183909
CREATED:20251121T114343Z
LAST-MODIFIED:20251121T114343Z
UID:715-1763836200-1763841600@ignitesouthbend.org
SUMMARY:Fellowship
DESCRIPTION:Come join as we fellowship in the Word of God\, with the Spirit of God\, and each others. \nWe will be meeting at Pastor Mark’s house. \nCall for directions 918-720-3345
URL:https://ignitesouthbend.org/event/fellowship-55/
LOCATION:Pastor Mark’s House
CATEGORIES:Fellowship,Home Gathering,Teaching & Preaching
ORGANIZER;CN="Pastor Mark":MAILTO:info@ignitesouthbend.org
END:VEVENT
BEGIN:VEVENT
DTSTART;TZID=America/Indiana/Indianapolis:20250802T143000
DTEND;TZID=America/Indiana/Indianapolis:20250802T160000
DTSTAMP:20260422T183909
CREATED:20250705T174739Z
LAST-MODIFIED:20250705T174935Z
UID:686-1754145000-1754150400@ignitesouthbend.org
SUMMARY:Weekly Meeting
DESCRIPTION:Come join as we fellowship\, pray\, hear teaching and preaching. \nWe will be meeting in Classroom C.
URL:https://ignitesouthbend.org/event/weekly-meeting-54/
LOCATION:Community Learning Center\, 305 S Michigan St\, South Bend\, IN\, 46601\, United States
CATEGORIES:Weekly Gathering
ORGANIZER;CN="Pastor Mark":MAILTO:info@ignitesouthbend.org
END:VEVENT
BEGIN:VEVENT
DTSTART;TZID=America/Indiana/Indianapolis:20250712T143000
DTEND;TZID=America/Indiana/Indianapolis:20250712T160000
DTSTAMP:20260422T183909
CREATED:20250705T174632Z
LAST-MODIFIED:20250705T174632Z
UID:684-1752330600-1752336000@ignitesouthbend.org
SUMMARY:Weekly Meeting
DESCRIPTION:Come join as we fellowship\, pray\, hear teaching and preaching. \nWe will be meeting in Classroom E.
URL:https://ignitesouthbend.org/event/weekly-meeting-53/
LOCATION:Community Learning Center\, 305 S Michigan St\, South Bend\, IN\, 46601\, United States
CATEGORIES:Weekly Gathering
ORGANIZER;CN="Pastor Mark":MAILTO:info@ignitesouthbend.org
END:VEVENT
BEGIN:VEVENT
DTSTART;TZID=America/Indiana/Indianapolis:20250705T143000
DTEND;TZID=America/Indiana/Indianapolis:20250705T160000
DTSTAMP:20260422T183909
CREATED:20250705T174449Z
LAST-MODIFIED:20250705T174449Z
UID:682-1751725800-1751731200@ignitesouthbend.org
SUMMARY:Weekly Meeting
DESCRIPTION:Come join as we fellowship\, pray\, hear teaching and preaching. \nWe will be meeting in Classroom C.
URL:https://ignitesouthbend.org/event/weekly-meeting-52/
LOCATION:Community Learning Center\, 305 S Michigan St\, South Bend\, IN\, 46601\, United States
CATEGORIES:Weekly Gathering
ORGANIZER;CN="Pastor Mark":MAILTO:info@ignitesouthbend.org
END:VEVENT
BEGIN:VEVENT
DTSTART;TZID=America/Indiana/Indianapolis:20250531T100000
DTEND;TZID=America/Indiana/Indianapolis:20250531T233000
DTSTAMP:20260422T183909
CREATED:20250504T222941Z
LAST-MODIFIED:20250504T222941Z
UID:678-1748685600-1748734200@ignitesouthbend.org
SUMMARY:Weekly Meeting
DESCRIPTION:Come join as we fellowship\, pray\, hear teaching and preaching. \nWe will be meeting in Classroom C.
URL:https://ignitesouthbend.org/event/weekly-meeting-51/
LOCATION:Community Learning Center\, 305 S Michigan St\, South Bend\, IN\, 46601\, United States
CATEGORIES:Weekly Gathering
ORGANIZER;CN="Pastor Mark":MAILTO:info@ignitesouthbend.org
END:VEVENT
BEGIN:VEVENT
DTSTART;TZID=America/Indiana/Indianapolis:20250524T143000
DTEND;TZID=America/Indiana/Indianapolis:20250524T160000
DTSTAMP:20260422T183909
CREATED:20250504T222730Z
LAST-MODIFIED:20250504T223052Z
UID:676-1748097000-1748102400@ignitesouthbend.org
SUMMARY:Weekly Meeting
DESCRIPTION:Come join as we fellowship\, pray\, hear teaching and preaching. \nWe will be meeting in Classroom F.
URL:https://ignitesouthbend.org/event/weekly-meeting-50/
LOCATION:Community Learning Center\, 305 S Michigan St\, South Bend\, IN\, 46601\, United States
CATEGORIES:Weekly Gathering
ORGANIZER;CN="Pastor Mark":MAILTO:info@ignitesouthbend.org
END:VEVENT
BEGIN:VEVENT
DTSTART;TZID=America/Indiana/Indianapolis:20250510T143000
DTEND;TZID=America/Indiana/Indianapolis:20250510T160000
DTSTAMP:20260422T183909
CREATED:20250504T222312Z
LAST-MODIFIED:20250504T222312Z
UID:672-1746887400-1746892800@ignitesouthbend.org
SUMMARY:Weekly Meeting
DESCRIPTION:Come join as we fellowship\, pray\, hear teaching and preaching. \nWe will be meeting in Classroom A.
URL:https://ignitesouthbend.org/event/weekly-meeting-48/
LOCATION:Community Learning Center\, 305 S Michigan St\, South Bend\, IN\, 46601\, United States
CATEGORIES:Weekly Gathering
ORGANIZER;CN="Pastor Mark":MAILTO:info@ignitesouthbend.org
END:VEVENT
BEGIN:VEVENT
DTSTART;TZID=America/Indiana/Indianapolis:20250504T100000
DTEND;TZID=America/Indiana/Indianapolis:20250504T113000
DTSTAMP:20260422T183909
CREATED:20250504T222134Z
LAST-MODIFIED:20250504T222134Z
UID:670-1746352800-1746358200@ignitesouthbend.org
SUMMARY:Weekly Meeting
DESCRIPTION:Come join as we fellowship\, pray\, hear teaching and preaching. \nWe will be meeting in Classroom C.
URL:https://ignitesouthbend.org/event/weekly-meeting-47/
LOCATION:Community Learning Center\, 305 S Michigan St\, South Bend\, IN\, 46601\, United States
CATEGORIES:Weekly Gathering
ORGANIZER;CN="Pastor Mark":MAILTO:info@ignitesouthbend.org
END:VEVENT
BEGIN:VEVENT
DTSTART;TZID=America/Indiana/Indianapolis:20250426T100000
DTEND;TZID=America/Indiana/Indianapolis:20250426T113000
DTSTAMP:20260422T183909
CREATED:20250315T014632Z
LAST-MODIFIED:20250315T014632Z
UID:665-1745661600-1745667000@ignitesouthbend.org
SUMMARY:Weekly Meeting
DESCRIPTION:Come join as we fellowship\, pray\, hear teaching and preaching. \nWe will be meeting in Classroom A.
URL:https://ignitesouthbend.org/event/weekly-meeting-46/
LOCATION:Community Learning Center\, 305 S Michigan St\, South Bend\, IN\, 46601\, United States
CATEGORIES:Weekly Gathering
ORGANIZER;CN="Pastor Mark":MAILTO:info@ignitesouthbend.org
END:VEVENT
BEGIN:VEVENT
DTSTART;TZID=America/Indiana/Indianapolis:20250413T100000
DTEND;TZID=America/Indiana/Indianapolis:20250413T113000
DTSTAMP:20260422T183909
CREATED:20250315T014556Z
LAST-MODIFIED:20250315T014556Z
UID:663-1744538400-1744543800@ignitesouthbend.org
SUMMARY:Weekly Meeting
DESCRIPTION:Come join as we fellowship\, pray\, hear teaching and preaching. \nWe will be meeting in Classroom C.
URL:https://ignitesouthbend.org/event/weekly-meeting-45/
LOCATION:Community Learning Center\, 305 S Michigan St\, South Bend\, IN\, 46601\, United States
CATEGORIES:Weekly Gathering
ORGANIZER;CN="Pastor Mark":MAILTO:info@ignitesouthbend.org
END:VEVENT
BEGIN:VEVENT
DTSTART;TZID=America/Indiana/Indianapolis:20250405T143000
DTEND;TZID=America/Indiana/Indianapolis:20250405T160000
DTSTAMP:20260422T183909
CREATED:20250315T014518Z
LAST-MODIFIED:20250315T014518Z
UID:660-1743863400-1743868800@ignitesouthbend.org
SUMMARY:Weekly Meeting
DESCRIPTION:Come join as we fellowship\, pray\, hear teaching and preaching. \nWe will be meeting in Classroom E.
URL:https://ignitesouthbend.org/event/weekly-meeting-44/
LOCATION:Community Learning Center\, 305 S Michigan St\, South Bend\, IN\, 46601\, United States
CATEGORIES:Weekly Gathering
ORGANIZER;CN="Pastor Mark":MAILTO:info@ignitesouthbend.org
END:VEVENT
BEGIN:VEVENT
DTSTART;TZID=America/Indiana/Indianapolis:20250323T100000
DTEND;TZID=America/Indiana/Indianapolis:20250323T113000
DTSTAMP:20260422T183909
CREATED:20250202T215108Z
LAST-MODIFIED:20250202T215108Z
UID:651-1742724000-1742729400@ignitesouthbend.org
SUMMARY:Weekly Meeting
DESCRIPTION:Come join as we fellowship\, pray\, hear teaching and preaching. \nWe will be meeting in Classroom C.
URL:https://ignitesouthbend.org/event/weekly-meeting-43/
LOCATION:Community Learning Center\, 305 S Michigan St\, South Bend\, IN\, 46601\, United States
CATEGORIES:Weekly Gathering
ORGANIZER;CN="Pastor Mark":MAILTO:info@ignitesouthbend.org
END:VEVENT
BEGIN:VEVENT
DTSTART;TZID=America/Indiana/Indianapolis:20250316T100000
DTEND;TZID=America/Indiana/Indianapolis:20250316T113000
DTSTAMP:20260422T183909
CREATED:20250202T215100Z
LAST-MODIFIED:20250202T215100Z
UID:649-1742119200-1742124600@ignitesouthbend.org
SUMMARY:Weekly Gathering
DESCRIPTION:Come join as we fellowship\, pray\, hear teaching and preaching. \nWe will be meeting in Classroom C.
URL:https://ignitesouthbend.org/event/weekly-gathering-42/
LOCATION:Community Learning Center\, 305 S Michigan St\, South Bend\, IN\, 46601\, United States
CATEGORIES:Weekly Gathering
ORGANIZER;CN="Pastor Mark":MAILTO:info@ignitesouthbend.org
END:VEVENT
BEGIN:VEVENT
DTSTART;TZID=America/Indiana/Indianapolis:20250308T150000
DTEND;TZID=America/Indiana/Indianapolis:20250308T160000
DTSTAMP:20260422T183909
CREATED:20250202T215053Z
LAST-MODIFIED:20250202T215053Z
UID:647-1741446000-1741449600@ignitesouthbend.org
SUMMARY:Weekly Gathering
DESCRIPTION:Come join as we fellowship\, pray\, hear teaching and preaching. \nWe will be meeting in Classroom E.
URL:https://ignitesouthbend.org/event/weekly-gathering-41/
LOCATION:Community Learning Center\, 305 S Michigan St\, South Bend\, IN\, 46601\, United States
CATEGORIES:Weekly Gathering
ORGANIZER;CN="Pastor Mark":MAILTO:info@ignitesouthbend.org
END:VEVENT
BEGIN:VEVENT
DTSTART;TZID=America/Indiana/Indianapolis:20250301T150000
DTEND;TZID=America/Indiana/Indianapolis:20250301T160000
DTSTAMP:20260422T183909
CREATED:20250202T215040Z
LAST-MODIFIED:20250202T215040Z
UID:645-1740841200-1740844800@ignitesouthbend.org
SUMMARY:Weekly Meeting
DESCRIPTION:Come join as we fellowship\, pray\, hear teaching and preaching. \nWe will be meeting in Classroom E.
URL:https://ignitesouthbend.org/event/weekly-meeting-40/
LOCATION:Community Learning Center\, 305 S Michigan St\, South Bend\, IN\, 46601\, United States
CATEGORIES:Weekly Gathering
ORGANIZER;CN="Pastor Mark":MAILTO:info@ignitesouthbend.org
END:VEVENT
BEGIN:VEVENT
DTSTART;TZID=America/Indiana/Indianapolis:20250223T100000
DTEND;TZID=America/Indiana/Indianapolis:20250223T113000
DTSTAMP:20260422T183909
CREATED:20250202T215030Z
LAST-MODIFIED:20250202T215030Z
UID:643-1740304800-1740310200@ignitesouthbend.org
SUMMARY:Weekly Gathering
DESCRIPTION:Come join as we fellowship\, pray\, hear teaching and preaching. \nWe will be meeting in Classroom C.
URL:https://ignitesouthbend.org/event/weekly-gathering-39/
LOCATION:Community Learning Center\, 305 S Michigan St\, South Bend\, IN\, 46601\, United States
CATEGORIES:Weekly Gathering
ORGANIZER;CN="Pastor Mark":MAILTO:info@ignitesouthbend.org
END:VEVENT
BEGIN:VEVENT
DTSTART;TZID=America/Indiana/Indianapolis:20250216T100000
DTEND;TZID=America/Indiana/Indianapolis:20250216T113000
DTSTAMP:20260422T183909
CREATED:20250202T215015Z
LAST-MODIFIED:20250202T215015Z
UID:641-1739700000-1739705400@ignitesouthbend.org
SUMMARY:Weekly Meeting
DESCRIPTION:Come join as we fellowship\, pray\, hear teaching and preaching. \nWe will be meeting in Classroom C.
URL:https://ignitesouthbend.org/event/weekly-meeting-38/
LOCATION:Community Learning Center\, 305 S Michigan St\, South Bend\, IN\, 46601\, United States
CATEGORIES:Weekly Gathering
ORGANIZER;CN="Pastor Mark":MAILTO:info@ignitesouthbend.org
END:VEVENT
BEGIN:VEVENT
DTSTART;TZID=America/Indiana/Indianapolis:20250209T100000
DTEND;TZID=America/Indiana/Indianapolis:20250209T113000
DTSTAMP:20260422T183909
CREATED:20250202T214949Z
LAST-MODIFIED:20250202T214949Z
UID:638-1739095200-1739100600@ignitesouthbend.org
SUMMARY:Weekly Meeting
DESCRIPTION:Come join as we fellowship\, pray\, hear teaching and preaching. \nWe will be meeting in Classroom E.
URL:https://ignitesouthbend.org/event/weekly-meeting-37/
LOCATION:Community Learning Center\, 305 S Michigan St\, South Bend\, IN\, 46601\, United States
CATEGORIES:Weekly Gathering
ORGANIZER;CN="Pastor Mark":MAILTO:info@ignitesouthbend.org
END:VEVENT
BEGIN:VEVENT
DTSTART;TZID=America/Indiana/Indianapolis:20250125T143000
DTEND;TZID=America/Indiana/Indianapolis:20250125T160000
DTSTAMP:20260422T183909
CREATED:20250101T183249Z
LAST-MODIFIED:20250101T183339Z
UID:634-1737815400-1737820800@ignitesouthbend.org
SUMMARY:Weekly Meeting
DESCRIPTION:Come join as we fellowship\, pray\, hear teaching and preaching. \nWe will be meeting in Classroom C.
URL:https://ignitesouthbend.org/event/weekly-meeting-36/
LOCATION:Community Learning Center\, 305 S Michigan St\, South Bend\, IN\, 46601\, United States
CATEGORIES:Weekly Gathering
ORGANIZER;CN="Pastor Mark":MAILTO:info@ignitesouthbend.org
END:VEVENT
BEGIN:VEVENT
DTSTART;TZID=America/Indiana/Indianapolis:20250118T143000
DTEND;TZID=America/Indiana/Indianapolis:20250118T160000
DTSTAMP:20260422T183909
CREATED:20250101T183109Z
LAST-MODIFIED:20250101T183109Z
UID:632-1737210600-1737216000@ignitesouthbend.org
SUMMARY:Weekly Meeting
DESCRIPTION:Come join as we fellowship\, pray\, hear teaching and preaching. \nWe will be meeting in Classroom E.
URL:https://ignitesouthbend.org/event/weekly-meeting-35/
LOCATION:Community Learning Center\, 305 S Michigan St\, South Bend\, IN\, 46601\, United States
CATEGORIES:Weekly Gathering
ORGANIZER;CN="Pastor Mark":MAILTO:info@ignitesouthbend.org
END:VEVENT
BEGIN:VEVENT
DTSTART;TZID=America/Indiana/Indianapolis:20250111T143000
DTEND;TZID=America/Indiana/Indianapolis:20250111T160000
DTSTAMP:20260422T183909
CREATED:20250101T182956Z
LAST-MODIFIED:20250101T182956Z
UID:630-1736605800-1736611200@ignitesouthbend.org
SUMMARY:Weekly Meeting
DESCRIPTION:Come join as we fellowship\, pray\, hear teaching and preaching. \nWe will be meeting in Classroom C.
URL:https://ignitesouthbend.org/event/weekly-meeting-34/
LOCATION:Community Learning Center\, 305 S Michigan St\, South Bend\, IN\, 46601\, United States
CATEGORIES:Weekly Gathering
ORGANIZER;CN="Pastor Mark":MAILTO:info@ignitesouthbend.org
END:VEVENT
BEGIN:VEVENT
DTSTART;TZID=America/Indiana/Indianapolis:20250104T143000
DTEND;TZID=America/Indiana/Indianapolis:20250104T160000
DTSTAMP:20260422T183909
CREATED:20250101T182828Z
LAST-MODIFIED:20250101T182828Z
UID:628-1736001000-1736006400@ignitesouthbend.org
SUMMARY:Weekly Meeting
DESCRIPTION:Come join as we fellowship\, pray\, hear teaching and preaching. \nWe will be meeting in Classroom E.
URL:https://ignitesouthbend.org/event/weekly-meeting-33/
LOCATION:Community Learning Center\, 305 S Michigan St\, South Bend\, IN\, 46601\, United States
CATEGORIES:Weekly Gathering
ORGANIZER;CN="Pastor Mark":MAILTO:info@ignitesouthbend.org
END:VEVENT
BEGIN:VEVENT
DTSTART;TZID=America/Indiana/Indianapolis:20241207T140000
DTEND;TZID=America/Indiana/Indianapolis:20241207T160000
DTSTAMP:20260422T183909
CREATED:20241105T223138Z
LAST-MODIFIED:20241105T223138Z
UID:624-1733580000-1733587200@ignitesouthbend.org
SUMMARY:Weekly Meeting
DESCRIPTION:  \nCome join as we fellowship\, pray\, hear teaching and preaching. \nWe will be meeting in Classroom E.
URL:https://ignitesouthbend.org/event/weekly-meeting-32/
LOCATION:Community Learning Center\, 305 S Michigan St\, South Bend\, IN\, 46601\, United States
CATEGORIES:Weekly Gathering
END:VEVENT
BEGIN:VEVENT
DTSTART;TZID=America/Indiana/Indianapolis:20241130T140000
DTEND;TZID=America/Indiana/Indianapolis:20241130T160000
DTSTAMP:20260422T183909
CREATED:20241105T223052Z
LAST-MODIFIED:20241105T223237Z
UID:621-1732975200-1732982400@ignitesouthbend.org
SUMMARY:Weekly Meeting
DESCRIPTION:  \nCome join as we fellowship\, pray\, hear teaching and preaching. \nWe will be meeting in Classroom C.
URL:https://ignitesouthbend.org/event/weekly-meeting-31/
LOCATION:Community Learning Center\, 305 S Michigan St\, South Bend\, IN\, 46601\, United States
CATEGORIES:Weekly Gathering
END:VEVENT
BEGIN:VEVENT
DTSTART;TZID=America/Indiana/Indianapolis:20241123T140000
DTEND;TZID=America/Indiana/Indianapolis:20241123T160000
DTSTAMP:20260422T183909
CREATED:20241105T223126Z
LAST-MODIFIED:20241105T223126Z
UID:618-1732370400-1732377600@ignitesouthbend.org
SUMMARY:Weekly Meeting
DESCRIPTION:  \nCome join as we fellowship\, pray\, hear teaching and preaching. \nWe will be meeting in Classroom C.
URL:https://ignitesouthbend.org/event/weekly-meeting-30/
LOCATION:Community Learning Center\, 305 S Michigan St\, South Bend\, IN\, 46601\, United States
CATEGORIES:Weekly Gathering
END:VEVENT
BEGIN:VEVENT
DTSTART;TZID=America/Indiana/Indianapolis:20241116T140000
DTEND;TZID=America/Indiana/Indianapolis:20241116T160000
DTSTAMP:20260422T183909
CREATED:20241105T223117Z
LAST-MODIFIED:20241105T223117Z
UID:615-1731765600-1731772800@ignitesouthbend.org
SUMMARY:Weekly Meeting
DESCRIPTION:  \nCome join as we fellowship\, pray\, hear teaching and preaching. \nWe will be meeting in Classroom C.
URL:https://ignitesouthbend.org/event/weekly-meeting-29/
LOCATION:Community Learning Center\, 305 S Michigan St\, South Bend\, IN\, 46601\, United States
CATEGORIES:Weekly Gathering
END:VEVENT
BEGIN:VEVENT
DTSTART;TZID=America/Indiana/Indianapolis:20241109T140000
DTEND;TZID=America/Indiana/Indianapolis:20241109T160000
DTSTAMP:20260422T183909
CREATED:20241105T223103Z
LAST-MODIFIED:20241105T223103Z
UID:612-1731160800-1731168000@ignitesouthbend.org
SUMMARY:Weekly Meeting
DESCRIPTION:  \nCome join as we fellowship\, pray\, hear teaching and preaching. \nWe will be meeting in Classroom C.
URL:https://ignitesouthbend.org/event/weekly-meeting-28/
LOCATION:Community Learning Center\, 305 S Michigan St\, South Bend\, IN\, 46601\, United States
CATEGORIES:Weekly Gathering
END:VEVENT
BEGIN:VEVENT
DTSTART;TZID=America/Indiana/Indianapolis:20241026T140000
DTEND;TZID=America/Indiana/Indianapolis:20241026T160000
DTSTAMP:20260422T183909
CREATED:20240919T102705Z
LAST-MODIFIED:20240919T102705Z
UID:609-1729951200-1729958400@ignitesouthbend.org
SUMMARY:Weekly Meeting
DESCRIPTION:v \nCome join as we fellowship\, pray\, hear teaching and preaching. \nWe will be meeting in Classroom C.
URL:https://ignitesouthbend.org/event/weekly-meeting-27/
LOCATION:Community Learning Center\, 305 S Michigan St\, South Bend\, IN\, 46601\, United States
CATEGORIES:Weekly Gathering
ORGANIZER;CN="Pastor Mark":MAILTO:info@ignitesouthbend.org
END:VEVENT
BEGIN:VEVENT
DTSTART;TZID=America/Indiana/Indianapolis:20241019T140000
DTEND;TZID=America/Indiana/Indianapolis:20241019T160000
DTSTAMP:20260422T183909
CREATED:20240919T102651Z
LAST-MODIFIED:20240919T102651Z
UID:607-1729346400-1729353600@ignitesouthbend.org
SUMMARY:Weekly Meeting
DESCRIPTION:Come join as we fellowship\, pray\, hear teaching and preaching. \nWe will be meeting in Classroom C.
URL:https://ignitesouthbend.org/event/weekly-meeting-26/
LOCATION:Community Learning Center\, 305 S Michigan St\, South Bend\, IN\, 46601\, United States
CATEGORIES:Weekly Gathering
ORGANIZER;CN="Pastor Mark":MAILTO:info@ignitesouthbend.org
END:VEVENT
BEGIN:VEVENT
DTSTART;TZID=America/Indiana/Indianapolis:20241012T140000
DTEND;TZID=America/Indiana/Indianapolis:20241012T160000
DTSTAMP:20260422T183909
CREATED:20240919T102636Z
LAST-MODIFIED:20240919T102636Z
UID:605-1728741600-1728748800@ignitesouthbend.org
SUMMARY:Weekly Meeting
DESCRIPTION:Come join as we fellowship\, pray\, hear teaching and preaching. \nWe will be meeting in Classroom C.
URL:https://ignitesouthbend.org/event/weekly-meeting-25/
LOCATION:Community Learning Center\, 305 S Michigan St\, South Bend\, IN\, 46601\, United States
CATEGORIES:Weekly Gathering
ORGANIZER;CN="Pastor Mark":MAILTO:info@ignitesouthbend.org
END:VEVENT
END:VCALENDAR