BEGIN:VCALENDAR
VERSION:2.0
PRODID:-//Ignite South Bend - ECPv6.15.20//NONSGML v1.0//EN
CALSCALE:GREGORIAN
METHOD:PUBLISH
X-WR-CALNAME:Ignite South Bend
X-ORIGINAL-URL:https://ignitesouthbend.org
X-WR-CALDESC:Events for Ignite South Bend
REFRESH-INTERVAL;VALUE=DURATION:PT1H
X-Robots-Tag:noindex
X-PUBLISHED-TTL:PT1H
BEGIN:VTIMEZONE
TZID:America/Indiana/Indianapolis
BEGIN:DAYLIGHT
TZOFFSETFROM:-0500
TZOFFSETTO:-0400
TZNAME:EDT
DTSTART:20250309T070000
END:DAYLIGHT
BEGIN:STANDARD
TZOFFSETFROM:-0400
TZOFFSETTO:-0500
TZNAME:EST
DTSTART:20251102T060000
END:STANDARD
BEGIN:DAYLIGHT
TZOFFSETFROM:-0500
TZOFFSETTO:-0400
TZNAME:EDT
DTSTART:20260308T070000
END:DAYLIGHT
BEGIN:STANDARD
TZOFFSETFROM:-0400
TZOFFSETTO:-0500
TZNAME:EST
DTSTART:20261101T060000
END:STANDARD
BEGIN:DAYLIGHT
TZOFFSETFROM:-0500
TZOFFSETTO:-0400
TZNAME:EDT
DTSTART:20270314T070000
END:DAYLIGHT
BEGIN:STANDARD
TZOFFSETFROM:-0400
TZOFFSETTO:-0500
TZNAME:EST
DTSTART:20271107T060000
END:STANDARD
END:VTIMEZONE
BEGIN:VEVENT
DTSTART;TZID=America/Indiana/Indianapolis:20260228T180000
DTEND;TZID=America/Indiana/Indianapolis:20260228T200000
DTSTAMP:20260422T183511
CREATED:20260122T172603Z
LAST-MODIFIED:20260122T172603Z
UID:847-1772301600-1772308800@ignitesouthbend.org
SUMMARY:Saturday Home Church
DESCRIPTION:A time of fellowship\, pray\, teaching and preaching. \nWe will be meeting at Pastor Mark’s house. \nCall for directions 918-720-3345
URL:https://ignitesouthbend.org/event/saturday-home-church-4/
LOCATION:Pastor Mark’s House
CATEGORIES:Bible Study,Fellowship,Home Gathering,Prayer,Teaching & Preaching,Weekly Gathering
ORGANIZER;CN="Pastor Mark":MAILTO:info@ignitesouthbend.org
END:VEVENT
BEGIN:VEVENT
DTSTART;TZID=America/Indiana/Indianapolis:20260307T180000
DTEND;TZID=America/Indiana/Indianapolis:20260307T200000
DTSTAMP:20260422T183511
CREATED:20260122T173058Z
LAST-MODIFIED:20260122T173058Z
UID:849-1772906400-1772913600@ignitesouthbend.org
SUMMARY:Saturday Home Church
DESCRIPTION:A time of fellowship\, pray\, teaching and preaching. \nWe will be meeting at Pastor Mark’s house. \nCall for directions 918-720-3345
URL:https://ignitesouthbend.org/event/saturday-home-church-5/
LOCATION:Pastor Mark’s House
CATEGORIES:Bible Study,Fellowship,Home Gathering,Prayer,Teaching & Preaching
ORGANIZER;CN="Pastor Mark":MAILTO:info@ignitesouthbend.org
END:VEVENT
BEGIN:VEVENT
DTSTART;TZID=America/Indiana/Indianapolis:20260314T180000
DTEND;TZID=America/Indiana/Indianapolis:20260314T200000
DTSTAMP:20260422T183511
CREATED:20260122T173537Z
LAST-MODIFIED:20260122T173537Z
UID:855-1773511200-1773518400@ignitesouthbend.org
SUMMARY:Saturation Saturday
DESCRIPTION:A time of surrender\, saturation\, and waiting on the Lord — come get refreshed\, refilled\, and swept deeper into the intimacy of God’s presence. \nWe will be meeting at Pastor Mark’s house. \nCall for directions 918-720-3345
URL:https://ignitesouthbend.org/event/saturation-saturday-05/
LOCATION:Pastor Mark’s House
CATEGORIES:Fellowship,Home Gathering,Prayer,Worship
ORGANIZER;CN="Pastor Mark":MAILTO:info@ignitesouthbend.org
END:VEVENT
BEGIN:VEVENT
DTSTART;TZID=America/Indiana/Indianapolis:20260321T080000
DTEND;TZID=America/Indiana/Indianapolis:20260321T170000
DTSTAMP:20260422T183511
CREATED:20260122T173204Z
LAST-MODIFIED:20260122T173204Z
UID:851-1774080000-1774112400@ignitesouthbend.org
SUMMARY:Saturday Home Church
DESCRIPTION:A time of fellowship\, pray\, teaching and preaching. \nWe will be meeting at Pastor Mark’s house. \nCall for directions 918-720-3345
URL:https://ignitesouthbend.org/event/saturday-home-church-6/
LOCATION:Pastor Mark’s House
CATEGORIES:Bible Study,Fellowship,Home Gathering,Prayer,Teaching & Preaching,Weekly Gathering
ORGANIZER;CN="Pastor Mark":MAILTO:info@ignitesouthbend.org
END:VEVENT
BEGIN:VEVENT
DTSTART;TZID=America/Indiana/Indianapolis:20260328T180000
DTEND;TZID=America/Indiana/Indianapolis:20260328T200000
DTSTAMP:20260422T183511
CREATED:20260122T173346Z
LAST-MODIFIED:20260122T173346Z
UID:853-1774720800-1774728000@ignitesouthbend.org
SUMMARY:Saturday Home Church
DESCRIPTION:A time of fellowship\, pray\, teaching and preaching. \nWe will be meeting at Pastor Mark’s house. \nCall for directions 918-720-3345
URL:https://ignitesouthbend.org/event/saturday-home-church-7/
LOCATION:Pastor Mark’s House
CATEGORIES:Bible Study,Fellowship,Home Gathering,Prayer,Teaching & Preaching,Weekly Gathering
ORGANIZER;CN="Pastor Mark":MAILTO:info@ignitesouthbend.org
END:VEVENT
END:VCALENDAR