BEGIN:VCALENDAR
VERSION:2.0
PRODID:-//Ignite South Bend - ECPv6.15.20//NONSGML v1.0//EN
CALSCALE:GREGORIAN
METHOD:PUBLISH
X-WR-CALNAME:Ignite South Bend
X-ORIGINAL-URL:https://ignitesouthbend.org
X-WR-CALDESC:Events for Ignite South Bend
REFRESH-INTERVAL;VALUE=DURATION:PT1H
X-Robots-Tag:noindex
X-PUBLISHED-TTL:PT1H
BEGIN:VTIMEZONE
TZID:America/Indiana/Indianapolis
BEGIN:DAYLIGHT
TZOFFSETFROM:-0500
TZOFFSETTO:-0400
TZNAME:EDT
DTSTART:20230312T070000
END:DAYLIGHT
BEGIN:STANDARD
TZOFFSETFROM:-0400
TZOFFSETTO:-0500
TZNAME:EST
DTSTART:20231105T060000
END:STANDARD
BEGIN:DAYLIGHT
TZOFFSETFROM:-0500
TZOFFSETTO:-0400
TZNAME:EDT
DTSTART:20240310T070000
END:DAYLIGHT
BEGIN:STANDARD
TZOFFSETFROM:-0400
TZOFFSETTO:-0500
TZNAME:EST
DTSTART:20241103T060000
END:STANDARD
BEGIN:DAYLIGHT
TZOFFSETFROM:-0500
TZOFFSETTO:-0400
TZNAME:EDT
DTSTART:20250309T070000
END:DAYLIGHT
BEGIN:STANDARD
TZOFFSETFROM:-0400
TZOFFSETTO:-0500
TZNAME:EST
DTSTART:20251102T060000
END:STANDARD
END:VTIMEZONE
BEGIN:VEVENT
DTSTART;TZID=America/Indiana/Indianapolis:20240928T140000
DTEND;TZID=America/Indiana/Indianapolis:20240928T160000
DTSTAMP:20260422T175916
CREATED:20240919T102619Z
LAST-MODIFIED:20240919T102619Z
UID:603-1727532000-1727539200@ignitesouthbend.org
SUMMARY:Weekly Meeting
DESCRIPTION:Come join as we fellowship\, pray\, hear teaching and preaching. \nWe will be meeting in Classroom F.
URL:https://ignitesouthbend.org/event/weekly-meeting-24/
LOCATION:Community Learning Center\, 305 S Michigan St\, South Bend\, IN\, 46601\, United States
CATEGORIES:Weekly Gathering
ORGANIZER;CN="Pastor Mark":MAILTO:info@ignitesouthbend.org
END:VEVENT
BEGIN:VEVENT
DTSTART;TZID=America/Indiana/Indianapolis:20240921T150000
DTEND;TZID=America/Indiana/Indianapolis:20240921T170000
DTSTAMP:20260422T175916
CREATED:20240902T184048Z
LAST-MODIFIED:20240902T184048Z
UID:594-1726930800-1726938000@ignitesouthbend.org
SUMMARY:Weekly Meeting
DESCRIPTION:Come join as we fellowship\, pray\, hear teaching and preaching. \nWe will be meeting in Classroom C.
URL:https://ignitesouthbend.org/event/weekly-meeting-23/
LOCATION:Community Learning Center\, 305 S Michigan St\, South Bend\, IN\, 46601\, United States
CATEGORIES:Weekly Gathering
END:VEVENT
BEGIN:VEVENT
DTSTART;TZID=America/Indiana/Indianapolis:20240907T150000
DTEND;TZID=America/Indiana/Indianapolis:20240907T170000
DTSTAMP:20260422T175916
CREATED:20240902T184036Z
LAST-MODIFIED:20240902T184036Z
UID:598-1725721200-1725728400@ignitesouthbend.org
SUMMARY:Weekly Meeting
DESCRIPTION:Come join as we fellowship\, pray\, hear teaching and preaching. \nWe will be meeting in Classroom E.
URL:https://ignitesouthbend.org/event/weekly-meeting-22/
LOCATION:Community Learning Center\, 305 S Michigan St\, South Bend\, IN\, 46601\, United States
CATEGORIES:Weekly Gathering
END:VEVENT
BEGIN:VEVENT
DTSTART;TZID=America/Indiana/Indianapolis:20240831T150000
DTEND;TZID=America/Indiana/Indianapolis:20240831T163000
DTSTAMP:20260422T175916
CREATED:20240727T165640Z
LAST-MODIFIED:20240727T165640Z
UID:573-1725116400-1725121800@ignitesouthbend.org
SUMMARY:Weekly Meeting
DESCRIPTION:Come join as we fellowship\, pray\, hear teaching and preaching. \nWe will be meeting in Classroom C.
URL:https://ignitesouthbend.org/event/weekly-meeting-21/
LOCATION:Community Learning Center\, 305 S Michigan St\, South Bend\, IN\, 46601\, United States
CATEGORIES:Weekly Gathering
END:VEVENT
BEGIN:VEVENT
DTSTART;TZID=America/Indiana/Indianapolis:20240824T150000
DTEND;TZID=America/Indiana/Indianapolis:20240824T163000
DTSTAMP:20260422T175916
CREATED:20240727T165632Z
LAST-MODIFIED:20240727T165632Z
UID:571-1724511600-1724517000@ignitesouthbend.org
SUMMARY:Weekly Meeting
DESCRIPTION:Come join as we fellowship\, pray\, hear teaching and preaching. \nWe will be meeting in Classroom C.
URL:https://ignitesouthbend.org/event/weekly-meeting-20/
LOCATION:Community Learning Center\, 305 S Michigan St\, South Bend\, IN\, 46601\, United States
CATEGORIES:Weekly Gathering
END:VEVENT
BEGIN:VEVENT
DTSTART;TZID=America/Indiana/Indianapolis:20240817T150000
DTEND;TZID=America/Indiana/Indianapolis:20240817T163000
DTSTAMP:20260422T175916
CREATED:20240727T165620Z
LAST-MODIFIED:20240727T165620Z
UID:569-1723906800-1723912200@ignitesouthbend.org
SUMMARY:Weekly Meeting
DESCRIPTION:Come join as we fellowship\, pray\, hear teaching and preaching. \nWe will be meeting in Classroom C.
URL:https://ignitesouthbend.org/event/weekly-meeting-19/
LOCATION:IN
CATEGORIES:Weekly Gathering
END:VEVENT
BEGIN:VEVENT
DTSTART;TZID=America/Indiana/Indianapolis:20240810T150000
DTEND;TZID=America/Indiana/Indianapolis:20240810T163000
DTSTAMP:20260422T175916
CREATED:20240727T165551Z
LAST-MODIFIED:20240727T165551Z
UID:567-1723302000-1723307400@ignitesouthbend.org
SUMMARY:Weekly Meeting
DESCRIPTION:Come join as we fellowship\, pray\, hear teaching and preaching. \nWe will be meeting in Classroom F.
URL:https://ignitesouthbend.org/event/weekly-meeting-18/
LOCATION:Community Learning Center\, 305 S Michigan St\, South Bend\, IN\, 46601\, United States
CATEGORIES:Weekly Gathering
END:VEVENT
BEGIN:VEVENT
DTSTART;TZID=America/Indiana/Indianapolis:20240803T150000
DTEND;TZID=America/Indiana/Indianapolis:20240803T163000
DTSTAMP:20260422T175916
CREATED:20240727T165535Z
LAST-MODIFIED:20240727T165535Z
UID:564-1722697200-1722702600@ignitesouthbend.org
SUMMARY:Weekly Meeting
DESCRIPTION:Come join as we fellowship\, pray\, hear teaching and preaching. \nWe will be meeting in Classroom C.
URL:https://ignitesouthbend.org/event/weekly-meeting-17/
LOCATION:Community Learning Center\, 305 S Michigan St\, South Bend\, IN\, 46601\, United States
CATEGORIES:Weekly Gathering
END:VEVENT
BEGIN:VEVENT
DTSTART;TZID=America/Indiana/Indianapolis:20240727T150000
DTEND;TZID=America/Indiana/Indianapolis:20240727T170000
DTSTAMP:20260422T175916
CREATED:20240713T170617Z
LAST-MODIFIED:20240713T170617Z
UID:558-1722092400-1722099600@ignitesouthbend.org
SUMMARY:Weekly Meeting
DESCRIPTION:Come join as we fellowship\, pray\, hear teaching and preaching. \nWe will be meeting in Classroom C.
URL:https://ignitesouthbend.org/event/weekly-meeting-16/
LOCATION:Community Learning Center\, 305 S Michigan St\, South Bend\, IN\, 46601\, United States
CATEGORIES:Weekly Gathering
END:VEVENT
BEGIN:VEVENT
DTSTART;TZID=America/Indiana/Indianapolis:20240713T150000
DTEND;TZID=America/Indiana/Indianapolis:20240713T170000
DTSTAMP:20260422T175917
CREATED:20240713T170605Z
LAST-MODIFIED:20240713T170605Z
UID:555-1720882800-1720890000@ignitesouthbend.org
SUMMARY:Weekly Meeting
DESCRIPTION:Come join as we fellowship\, pray\, hear teaching and preaching. \nWe will be meeting in Classroom E.
URL:https://ignitesouthbend.org/event/weekly-meeting-15/
LOCATION:Community Learning Center\, 305 S Michigan St\, South Bend\, IN\, 46601\, United States
CATEGORIES:Weekly Gathering
END:VEVENT
BEGIN:VEVENT
DTSTART;TZID=America/Indiana/Indianapolis:20240706T150000
DTEND;TZID=America/Indiana/Indianapolis:20240706T170000
DTSTAMP:20260422T175917
CREATED:20240702T214700Z
LAST-MODIFIED:20240702T214723Z
UID:551-1720278000-1720285200@ignitesouthbend.org
SUMMARY:Weekly Meeting
DESCRIPTION:Come join as we fellowship\, pray\, hear teaching and preaching. \nWe will be meeting in Classroom C.
URL:https://ignitesouthbend.org/event/weekly-meeting-14/
LOCATION:Community Learning Center\, 305 S Michigan St\, South Bend\, IN\, 46601\, United States
CATEGORIES:Weekly Gathering
END:VEVENT
BEGIN:VEVENT
DTSTART;TZID=America/Indiana/Indianapolis:20240629T140000
DTEND;TZID=America/Indiana/Indianapolis:20240629T160000
DTSTAMP:20260422T175917
CREATED:20240605T194418Z
LAST-MODIFIED:20240605T194418Z
UID:539-1719669600-1719676800@ignitesouthbend.org
SUMMARY:Weekly Meeting
DESCRIPTION:Come join as we fellowship\, pray\, hear teaching and preaching. \nWe will be meeting in Classroom C.
URL:https://ignitesouthbend.org/event/weekly-meeting-13/
LOCATION:Community Learning Center\, 305 S Michigan St\, South Bend\, IN\, 46601\, United States
CATEGORIES:Weekly Gathering
END:VEVENT
BEGIN:VEVENT
DTSTART;TZID=America/Indiana/Indianapolis:20240622T140000
DTEND;TZID=America/Indiana/Indianapolis:20240622T160000
DTSTAMP:20260422T175917
CREATED:20240605T194303Z
LAST-MODIFIED:20240605T194303Z
UID:537-1719064800-1719072000@ignitesouthbend.org
SUMMARY:Weekly Meeting
DESCRIPTION:Come join as we fellowship\, pray\, hear teaching and preaching. \nWe will be meeting in Classroom E.
URL:https://ignitesouthbend.org/event/weekly-meeting-12/
LOCATION:Community Learning Center\, 305 S Michigan St\, South Bend\, IN\, 46601\, United States
CATEGORIES:Weekly Gathering
END:VEVENT
BEGIN:VEVENT
DTSTART;TZID=America/Indiana/Indianapolis:20240608T140000
DTEND;TZID=America/Indiana/Indianapolis:20240608T160000
DTSTAMP:20260422T175917
CREATED:20240605T194130Z
LAST-MODIFIED:20240605T194130Z
UID:534-1717855200-1717862400@ignitesouthbend.org
SUMMARY:Weekly Meeting
DESCRIPTION:Come join as we fellowship\, pray\, hear teaching and preaching. \nWe will be meeting in Classroom E.
URL:https://ignitesouthbend.org/event/weekly-meeting-10/
LOCATION:Community Learning Center\, 305 S Michigan St\, South Bend\, IN\, 46601\, United States
CATEGORIES:Weekly Gathering
END:VEVENT
BEGIN:VEVENT
DTSTART;TZID=America/Indiana/Indianapolis:20240601T150000
DTEND;TZID=America/Indiana/Indianapolis:20240601T170000
DTSTAMP:20260422T175917
CREATED:20240605T193925Z
LAST-MODIFIED:20240605T193925Z
UID:531-1717254000-1717261200@ignitesouthbend.org
SUMMARY:Weekly Gathering
DESCRIPTION:Come join as we fellowship\, pray\, hear teaching and preaching. \nWe will be meeting in Classroom E.
URL:https://ignitesouthbend.org/event/weekly-gathering-09/
LOCATION:Community Learning Center\, 305 S Michigan St\, South Bend\, IN\, 46601\, United States
CATEGORIES:Weekly Gathering
END:VEVENT
BEGIN:VEVENT
DTSTART;TZID=America/Indiana/Indianapolis:20240511T140000
DTEND;TZID=America/Indiana/Indianapolis:20240511T160000
DTSTAMP:20260422T175917
CREATED:20240422T194858Z
LAST-MODIFIED:20240422T194858Z
UID:503-1715436000-1715443200@ignitesouthbend.org
SUMMARY:Weekly Gathering
DESCRIPTION:Come join as we fellowship\, pray\, hear teaching and preaching. \nWe will be meeting in Classroom C.
URL:https://ignitesouthbend.org/event/weekly-gathering-08/
LOCATION:Community Learning Center\, 305 S Michigan St\, South Bend\, IN\, 46601\, United States
CATEGORIES:Weekly Gathering
END:VEVENT
BEGIN:VEVENT
DTSTART;TZID=America/Indiana/Indianapolis:20240504T140000
DTEND;TZID=America/Indiana/Indianapolis:20240504T160000
DTSTAMP:20260422T175917
CREATED:20240422T194527Z
LAST-MODIFIED:20240422T194527Z
UID:501-1714831200-1714838400@ignitesouthbend.org
SUMMARY:Weekly Gathering
DESCRIPTION:Come join as we fellowship\, pray\, hear teaching and preaching. \nWe will be meeting in Classroom C.
URL:https://ignitesouthbend.org/event/weekly-gathering-07/
LOCATION:Community Learning Center\, 305 S Michigan St\, South Bend\, IN\, 46601\, United States
CATEGORIES:Weekly Gathering
END:VEVENT
BEGIN:VEVENT
DTSTART;TZID=America/Indiana/Indianapolis:20240427T140000
DTEND;TZID=America/Indiana/Indianapolis:20240427T160000
DTSTAMP:20260422T175917
CREATED:20240414T013624Z
LAST-MODIFIED:20240414T013624Z
UID:487-1714226400-1714233600@ignitesouthbend.org
SUMMARY:Weekly Gathering
DESCRIPTION:Come join as we fellowship\, pray\, hear teaching and preaching. \nWe will be meeting in Classroom E.
URL:https://ignitesouthbend.org/event/weekly-gathering-06/
LOCATION:Community Learning Center\, 305 S Michigan St\, South Bend\, IN\, 46601\, United States
CATEGORIES:Weekly Gathering
END:VEVENT
BEGIN:VEVENT
DTSTART;TZID=America/Indiana/Indianapolis:20240420T140000
DTEND;TZID=America/Indiana/Indianapolis:20240420T160000
DTSTAMP:20260422T175917
CREATED:20240402T174229Z
LAST-MODIFIED:20240402T184637Z
UID:396-1713621600-1713628800@ignitesouthbend.org
SUMMARY:Weekly Gathering
DESCRIPTION:Come join as we fellowship\, pray\, hear teaching and preaching. \nWe will be meeting in Classroom F.
URL:https://ignitesouthbend.org/event/weekly-gathering-05/
LOCATION:Community Learning Center\, 305 S Michigan St\, South Bend\, IN\, 46601\, United States
CATEGORIES:Weekly Gathering
END:VEVENT
BEGIN:VEVENT
DTSTART;TZID=America/Indiana/Indianapolis:20240413T140000
DTEND;TZID=America/Indiana/Indianapolis:20240413T160000
DTSTAMP:20260422T175917
CREATED:20240402T174220Z
LAST-MODIFIED:20240402T184618Z
UID:394-1713016800-1713024000@ignitesouthbend.org
SUMMARY:Weekly Gathering
DESCRIPTION:Come join as we fellowship\, pray\, hear teaching and preaching. \nWe will be meeting in Classroom A.
URL:https://ignitesouthbend.org/event/weekly-gathering-04/
LOCATION:Community Learning Center\, 305 S Michigan St\, South Bend\, IN\, 46601\, United States
CATEGORIES:Weekly Gathering
END:VEVENT
BEGIN:VEVENT
DTSTART;TZID=America/Indiana/Indianapolis:20240406T140000
DTEND;TZID=America/Indiana/Indianapolis:20240406T160000
DTSTAMP:20260422T175917
CREATED:20240402T174147Z
LAST-MODIFIED:20240402T184604Z
UID:373-1712412000-1712419200@ignitesouthbend.org
SUMMARY:Weekly Gathering
DESCRIPTION:Come join as we fellowship\, pray\, hear teaching and preaching. \nWe will be meeting in Classroom C.
URL:https://ignitesouthbend.org/event/weekly-gathering-03/
LOCATION:Community Learning Center\, 305 S Michigan St\, South Bend\, IN\, 46601\, United States
CATEGORIES:Weekly Gathering
END:VEVENT
BEGIN:VEVENT
DTSTART;TZID=America/Indiana/Indianapolis:20240330T140000
DTEND;TZID=America/Indiana/Indianapolis:20240330T160000
DTSTAMP:20260422T175917
CREATED:20240402T174050Z
LAST-MODIFIED:20240402T184527Z
UID:388-1711807200-1711814400@ignitesouthbend.org
SUMMARY:Weekly Gathering
DESCRIPTION:Come join as we fellowship\, pray\, hear teaching and preaching.
URL:https://ignitesouthbend.org/event/weekly-gathering-02/
LOCATION:Community Learning Center\, 305 S Michigan St\, South Bend\, IN\, 46601\, United States
CATEGORIES:Weekly Gathering
END:VEVENT
BEGIN:VEVENT
DTSTART;TZID=America/Indiana/Indianapolis:20240324T140000
DTEND;TZID=America/Indiana/Indianapolis:20240324T160000
DTSTAMP:20260422T175917
CREATED:20240402T174027Z
LAST-MODIFIED:20240402T184541Z
UID:392-1711288800-1711296000@ignitesouthbend.org
SUMMARY:Weekly Gathering
DESCRIPTION:Come join as we fellowship\, pray\, hear teaching and preaching.
URL:https://ignitesouthbend.org/event/weekly-gathering-01/
LOCATION:Community Learning Center\, 305 S Michigan St\, South Bend\, IN\, 46601\, United States
CATEGORIES:Weekly Gathering
END:VEVENT
END:VCALENDAR