BEGIN:VCALENDAR
VERSION:2.0
PRODID:-//Ignite South Bend - ECPv6.15.20//NONSGML v1.0//EN
CALSCALE:GREGORIAN
METHOD:PUBLISH
X-WR-CALNAME:Ignite South Bend
X-ORIGINAL-URL:https://ignitesouthbend.org
X-WR-CALDESC:Events for Ignite South Bend
REFRESH-INTERVAL;VALUE=DURATION:PT1H
X-Robots-Tag:noindex
X-PUBLISHED-TTL:PT1H
BEGIN:VTIMEZONE
TZID:America/Indiana/Indianapolis
BEGIN:DAYLIGHT
TZOFFSETFROM:-0500
TZOFFSETTO:-0400
TZNAME:EDT
DTSTART:20240310T070000
END:DAYLIGHT
BEGIN:STANDARD
TZOFFSETFROM:-0400
TZOFFSETTO:-0500
TZNAME:EST
DTSTART:20241103T060000
END:STANDARD
BEGIN:DAYLIGHT
TZOFFSETFROM:-0500
TZOFFSETTO:-0400
TZNAME:EDT
DTSTART:20250309T070000
END:DAYLIGHT
BEGIN:STANDARD
TZOFFSETFROM:-0400
TZOFFSETTO:-0500
TZNAME:EST
DTSTART:20251102T060000
END:STANDARD
BEGIN:DAYLIGHT
TZOFFSETFROM:-0500
TZOFFSETTO:-0400
TZNAME:EDT
DTSTART:20260308T070000
END:DAYLIGHT
BEGIN:STANDARD
TZOFFSETFROM:-0400
TZOFFSETTO:-0500
TZNAME:EST
DTSTART:20261101T060000
END:STANDARD
END:VTIMEZONE
BEGIN:VEVENT
DTSTART;TZID=America/Indiana/Indianapolis:20251214T100000
DTEND;TZID=America/Indiana/Indianapolis:20251214T113000
DTSTAMP:20260422T183150
CREATED:20251125T031619Z
LAST-MODIFIED:20251125T031619Z
UID:724-1765706400-1765711800@ignitesouthbend.org
SUMMARY:Seeding Sunday
DESCRIPTION:Come join as we fellowship\, pray\, hear teaching and preaching. \nWe will be meeting in Classroom C.
URL:https://ignitesouthbend.org/event/seeding-sunday-57/
LOCATION:Community Learning Center\, 305 S Michigan St\, South Bend\, IN\, 46601\, United States
CATEGORIES:Public Gathering,Teaching & Preaching
ORGANIZER;CN="Pastor Mark":MAILTO:info@ignitesouthbend.org
END:VEVENT
BEGIN:VEVENT
DTSTART;TZID=America/Indiana/Indianapolis:20251228T100000
DTEND;TZID=America/Indiana/Indianapolis:20251228T113000
DTSTAMP:20260422T183150
CREATED:20251125T031728Z
LAST-MODIFIED:20251125T031728Z
UID:726-1766916000-1766921400@ignitesouthbend.org
SUMMARY:Seeding Sunday
DESCRIPTION:Come join as we fellowship\, pray\, hear teaching and preaching. \nWe will be meeting in Classroom C.
URL:https://ignitesouthbend.org/event/seeding-sunday-58/
LOCATION:Community Learning Center\, 305 S Michigan St\, South Bend\, IN\, 46601\, United States
CATEGORIES:Public Gathering,Teaching & Preaching
ORGANIZER;CN="Pastor Mark":MAILTO:info@ignitesouthbend.org
END:VEVENT
END:VCALENDAR